BEGIN:VCALENDAR
VERSION:2.0
PRODID:-//Irish Dominicans - ECPv4.6.1//NONSGML v1.0//EN
CALSCALE:GREGORIAN
METHOD:PUBLISH
X-WR-CALNAME:Irish Dominicans
X-ORIGINAL-URL:http://dominicans.ie
X-WR-CALDESC:Events for Irish Dominicans
BEGIN:VEVENT
DTSTART;VALUE=DATE:20171104
DTEND;VALUE=DATE:20171113
DTSTAMP:20171104T033935
CREATED:20171025T200931Z
LAST-MODIFIED:20171025T200931Z
UID:4657-1509753600-1510531199@dominicans.ie
SUMMARY:Novena to St. Martin de Porres
DESCRIPTION:The Novena starts at 6:15pm on Saturday the 4th of November. \nOn Sunday the Novena session is at 4pm. \nMonday – Saturday at 10am and 6:15pm. \nThe Novena finishes on Sunday the 12th at 4pm. \n
URL:http://dominicans.ie/event/novena-to-st-martin-de-porres-2/
LOCATION:Saint Malachy's Dominican Church\, The Crescent\, Demesne\, Dundalk\, Ireland
CATEGORIES:Novenas/Triduums
ATTACH;FMTTYPE=image/jpeg:http://dominicans.ie/wp-content/uploads/2017/10/IMG_1284.jpg
END:VEVENT
BEGIN:VEVENT
DTSTART;TZID=Europe/Dublin:20171207T193000
DTEND;TZID=Europe/Dublin:20171207T210000
DTSTAMP:20171104T033935
CREATED:20170925T191800Z
LAST-MODIFIED:20170928T141314Z
UID:4573-1512675000-1512680400@dominicans.ie
SUMMARY:Symposium - More than a footnote ... What are the women doing in the Bible?
DESCRIPTION:Title: More than a footnote … What are the women doing in the Bible? \nThursday\, the 7th of December\, 2017\nFr. Terence Crotty OP \nAll lectures will take place at 7.30pm in St Catherine’s Chapel at St Saviour’s Priory. Access from Dorset Street. E-mail: stsaviourssymposium@gmail.com  / Tel: 01- 8897610 \n  \n
URL:http://dominicans.ie/event/symposium-habemus-titulum/
CATEGORIES:Symposium
ATTACH;FMTTYPE=image/jpeg:http://dominicans.ie/wp-content/uploads/2016/10/DSC00152-1.jpg
END:VEVENT
BEGIN:VEVENT
DTSTART;TZID=Europe/Dublin:20180201T193000
DTEND;TZID=Europe/Dublin:20180201T210000
DTSTAMP:20171104T033935
CREATED:20170925T091038Z
LAST-MODIFIED:20171025T193101Z
UID:4525-1517513400-1517518800@dominicans.ie
SUMMARY:Symposium - Personhood and the Constitutional Protection of Human Life
DESCRIPTION:Title: Personhood and the Constitutional Protection of Human Life \nThursday\, the 1st of February\, 2018\nFr Bill Daley\, CSC\, Director of the Newman Centre for Faith and Reason \nAll lectures will take place at 7.30pm in St Catherine’s Chapel at St Saviour’s Priory. Access from Dorset Street. E-mail: stsaviourssymposium@gmail.com  / Tel: 01- 8897610 \n
URL:http://dominicans.ie/event/symposium-personhood-and-the-constitutional-protection-of-human-life/
CATEGORIES:Symposium
ATTACH;FMTTYPE=image/jpeg:http://dominicans.ie/wp-content/uploads/2016/10/DSC00152-1.jpg
END:VEVENT
BEGIN:VEVENT
DTSTART;TZID=Europe/Dublin:20180301T193000
DTEND;TZID=Europe/Dublin:20180301T210000
DTSTAMP:20171104T033935
CREATED:20170925T091216Z
LAST-MODIFIED:20170925T091436Z
UID:4528-1519932600-1519938000@dominicans.ie
SUMMARY:Symposium - Priesthood and the Extraordinary Minister of Sacred Ordination
DESCRIPTION:Title: Priesthood and the Extraordinary Minister of Sacred Ordination \nThursday\, the 1st of March\, 2018\nFr Gerard Deighan\, MA SSL\, Adm of St Kevin’s\, Harrington Street \nAll lectures will take place at 7.30pm in St Catherine’s Chapel at St Saviour’s Priory. Access from Dorset Street. E-mail: stsaviourssymposium@gmail.com  / Tel: 01- 8897610 \n
URL:http://dominicans.ie/event/symposium-priesthood-and-the-extraordinary-minister-of-sacred-ordination/
CATEGORIES:Symposium
END:VEVENT
BEGIN:VEVENT
DTSTART;TZID=Europe/Dublin:20180503T193000
DTEND;TZID=Europe/Dublin:20180503T210000
DTSTAMP:20171104T033935
CREATED:20170925T091332Z
LAST-MODIFIED:20170925T091413Z
UID:4531-1525375800-1525381200@dominicans.ie
SUMMARY:Symposium - Renewal of the Mind: Memory and Prudence according to St Thomas
DESCRIPTION:Title: Renewal of the Mind: Memory and Prudence according to St Thomas \nThursday\, the 3rd of May\, 2018\nSr Beatrice Clarke\, OP \nAll lectures will take place at 7.30pm in St Catherine’s Chapel at St Saviour’s Priory. Access from Dorset Street. E-mail: stsaviourssymposium@gmail.com  / Tel: 01- 8897610 \n
URL:http://dominicans.ie/event/symposium-renewal-of-the-mind-memory-and-prudence-according-to-st-thomas/
CATEGORIES:Symposium
END:VEVENT
END:VCALENDAR